BEGIN:VCALENDAR
VERSION:2.0
PRODID:-//Woodshed Art Auctions - ECPv4.8.1//NONSGML v1.0//EN
CALSCALE:GREGORIAN
METHOD:PUBLISH
X-WR-CALNAME:Woodshed Art Auctions
X-ORIGINAL-URL:https://woodshedartauctions.com
X-WR-CALDESC:Events for Woodshed Art Auctions
BEGIN:VEVENT
DTSTART;TZID=America/New_York:20180607T173000
DTEND;TZID=America/New_York:20180607T200000
DTSTAMP:20260425T032752
CREATED:20180513T173726Z
LAST-MODIFIED:20180522T215736Z
UID:1930-1528392600-1528401600@woodshedartauctions.com
SUMMARY:Artworks From International Estates
DESCRIPTION:Rare and new-to-the-market paintings and drawings from Europe and the Americas.  Including contemporary work by the UK artist Banksy\, and an Italian watercolor by the American artist John Singer Sargent.  Other prime works include sketches and paintings attributed to Andy Warhol\, Wifredo Lam\, Claude Monet\, Henri Toulouse-Lautrec and Jean Michel Basquiat. \n
URL:https://woodshedartauctions.com/event/artworks-from-international-estates/
LOCATION:500 Gallery\, 500 Franklin Village Drive\, FRANKLIN\, MA\, 02038\, United States
ATTACH;FMTTYPE=image/jpeg:https://woodshedartauctions.com/wp-content/uploads/2018/05/200_3.jpg
ORGANIZER;CN="Woodshed%20Art%20Auctions":MAILTO:inquiries@woodshedartauctions.com
END:VEVENT
END:VCALENDAR